BEGIN:VCALENDAR
VERSION:2.0
PRODID:-//Improvised Musical Comedy Theatre in Nottingham and Leicester - ECPv6.0.10//NONSGML v1.0//EN
CALSCALE:GREGORIAN
METHOD:PUBLISH
X-WR-CALNAME:Improvised Musical Comedy Theatre in Nottingham and Leicester
X-ORIGINAL-URL:https://rhymesimprov.com
X-WR-CALDESC:Events for Improvised Musical Comedy Theatre in Nottingham and Leicester
REFRESH-INTERVAL;VALUE=DURATION:PT1H
X-Robots-Tag:noindex
X-PUBLISHED-TTL:PT1H
BEGIN:VTIMEZONE
TZID:UTC
BEGIN:STANDARD
TZOFFSETFROM:+0000
TZOFFSETTO:+0000
TZNAME:UTC
DTSTART:20230101T000000
END:STANDARD
END:VTIMEZONE
BEGIN:VEVENT
DTSTART;TZID=UTC:20230908T181500
DTEND;TZID=UTC:20230908T191500
DTSTAMP:20260420T005344
CREATED:20230810T093145Z
LAST-MODIFIED:20230810T100428Z
UID:1012-1694196900-1694200500@rhymesimprov.com
SUMMARY:Rhymes Against Humanity at Robin Hood International Improv Festival
DESCRIPTION:Rhymes Against Humanity \nYou give us a title\, we’ll give you a fully improvised musical. Rhymes Against Humanity is the Midland’s most watched improv group and has been dazzling audiences for over 7 years. Rhymes are proud to sponsor the Robin Hood International Improv Festival for a second year in a row. We are delighted to be performing on Friday 8th September at 6.15pm in a double bill with the fantastic Improtheatre IMPEERIUM – they will be bringing their brand of gibberish hilarity all the way from Tallinn\, Estonia!! Improtheatre IMPEERIUM show us what happens when you mix mime\, clown\, silent movies and commedia dell’arte. No knowledge of any language is necessary. \nhttps://nonsuchstudios.online.red61.co.uk/event/419:505/419:1925/
URL:https://rhymesimprov.com/event/rhymes-against-humanity-at-robin-hood-international-improv-festival/
LOCATION:Nonsuch Studios\, 92 Lower Parliament St\, Nottingham\, NG1 1EH\, United Kingdom
END:VEVENT
END:VCALENDAR