BEGIN:VCALENDAR
VERSION:2.0
PRODID:-//Improvised Musical Comedy Theatre in Nottingham and Leicester - ECPv6.0.10//NONSGML v1.0//EN
CALSCALE:GREGORIAN
METHOD:PUBLISH
X-WR-CALNAME:Improvised Musical Comedy Theatre in Nottingham and Leicester
X-ORIGINAL-URL:https://rhymesimprov.com
X-WR-CALDESC:Events for Improvised Musical Comedy Theatre in Nottingham and Leicester
REFRESH-INTERVAL;VALUE=DURATION:PT1H
X-Robots-Tag:noindex
X-PUBLISHED-TTL:PT1H
BEGIN:VTIMEZONE
TZID:UTC
BEGIN:STANDARD
TZOFFSETFROM:+0000
TZOFFSETTO:+0000
TZNAME:UTC
DTSTART:20230101T000000
END:STANDARD
END:VTIMEZONE
BEGIN:VEVENT
DTSTART;TZID=UTC:20231126T193000
DTEND;TZID=UTC:20231126T213000
DTSTAMP:20260421T234855
CREATED:20230810T101702Z
LAST-MODIFIED:20230810T101744Z
UID:1033-1701027000-1701034200@rhymesimprov.com
SUMMARY:Rhymes Against Humanity - John Godber Centre\, Hucknall
DESCRIPTION:Rhymes Against Humanity is the Midlands’ hilarious\, highly acclaimed improvised musical. Each show is a one-off piece of musical theatre\, created in the moment. You give them a title\, they give you a fully improvised musical. \nFrom the opening number through to the very last note of the finale\, everything is being created on the spot. This is improvised comedy at its most thrilling. \nFor full  show details visit Hucknall Comedy Club Website
URL:https://rhymesimprov.com/event/rhymes-against-humanity-john-godber-centre-hucknall/
LOCATION:John Godber Centre\, Ogle Street\, Hucknall\, Nottinghamshire\, NG15 7FQ\, United Kingdom
END:VEVENT
END:VCALENDAR