BEGIN:VCALENDAR
VERSION:2.0
PRODID:-//Improvised Musical Comedy Theatre in Nottingham and Leicester - ECPv6.0.10//NONSGML v1.0//EN
CALSCALE:GREGORIAN
METHOD:PUBLISH
X-WR-CALNAME:Improvised Musical Comedy Theatre in Nottingham and Leicester
X-ORIGINAL-URL:https://rhymesimprov.com
X-WR-CALDESC:Events for Improvised Musical Comedy Theatre in Nottingham and Leicester
REFRESH-INTERVAL;VALUE=DURATION:PT1H
X-Robots-Tag:noindex
X-PUBLISHED-TTL:PT1H
BEGIN:VTIMEZONE
TZID:UTC
BEGIN:STANDARD
TZOFFSETFROM:+0000
TZOFFSETTO:+0000
TZNAME:UTC
DTSTART:20240101T000000
END:STANDARD
END:VTIMEZONE
BEGIN:VEVENT
DTSTART;TZID=UTC:20241109T193000
DTEND;TZID=UTC:20241109T213000
DTSTAMP:20260420T061756
CREATED:20240917T152252Z
LAST-MODIFIED:20240917T152252Z
UID:1116-1731180600-1731187800@rhymesimprov.com
SUMMARY:Rhymes Against Humanity - The Improvised Musical at Nottingham Comedy Festival 2024
DESCRIPTION:“Really funny. Totally ad libbed with prompts from the audience. I don’t know how they do it. Would see them again and absolutely recommend anyone else to.” \nRhymes Against Humanity is the Midlands’ hilarious\, highly acclaimed improvised musical. Each show is a one-off piece of musical theatre\, created in the moment. You suggest a title and they perform a fully improvised musical. \nFrom the opening number to the very last note of the finale\, everything is being created on the spot. This is improvised comedy at its most thrilling – anything can happen. \nWith four years of sell-out shows at Leicester Comedy Festival and a nomination for “Best Improv Show”\, this homegrown show continues to dazzle East Midlands audiences.
URL:https://rhymesimprov.com/event/rhymes-against-humanity-the-improvised-musical-at-nottingham-comedy-festival-2024/
LOCATION:Squire Performing Arts Centre\, 9 Arboretum Street\, Nottingham\, NG1 4JB\, United Kingdom
END:VEVENT
END:VCALENDAR